BEGIN:VCALENDAR
VERSION:2.0
PRODID:-//wp-events-plugin.com//7.2.2.1//EN
TZID:Europe/Berlin
X-WR-TIMEZONE:Europe/Berlin
BEGIN:VEVENT
UID:18@diekeramikerin.de
DTSTART;TZID=Europe/Berlin:20250310T100000
DTEND;TZID=Europe/Berlin:20250310T140000
DTSTAMP:20250209T104839Z
URL:https://diekeramikerin.de/Veranstaltungen/workshop-kurs-gartenkeramik/
SUMMARY:Workshop/Kurs "Gartenkeramik"
DESCRIPTION:\n\nTöpferkurs für Erwachsene\, max Teilnehmerzahl 4\, Kosten
 : 95€ plus Material
LOCATION:Keramikatelier Kerstin Reisel\, Echinger Straße 5a\, Unterschlei
 ßheim\, 85716\, Deutschland
X-APPLE-STRUCTURED-LOCATION;VALUE=URI;X-ADDRESS=Echinger Straße 5a\, Unter
 schleißheim\, 85716\, Deutschland;X-APPLE-RADIUS=100;X-TITLE=Keramikateli
 er Kerstin Reisel:geo:0,0
END:VEVENT
BEGIN:VTIMEZONE
TZID:Europe/Berlin
X-LIC-LOCATION:Europe/Berlin
BEGIN:STANDARD
DTSTART:20241027T020000
TZOFFSETFROM:+0200
TZOFFSETTO:+0100
TZNAME:CET
END:STANDARD
END:VTIMEZONE
END:VCALENDAR