BEGIN:VCALENDAR
VERSION:2.0
PRODID:-//wp-events-plugin.com//7.2.2.1//EN
TZID:Europe/Berlin
X-WR-TIMEZONE:Europe/Berlin
BEGIN:VEVENT
UID:15@diekeramikerin.de
DTSTART;TZID=Europe/Berlin:20251128T000000
DTEND;TZID=Europe/Berlin:20251130T000000
DTSTAMP:20250209T102354Z
URL:https://diekeramikerin.de/Veranstaltungen/weihnachtsmarkt-haimhausen/
SUMMARY:Weihnachtsmarkt Haimhausen
DESCRIPTION:
LOCATION:Schloss Haimhausen\, Hauptstraße 1\, Haimhausen\, 85778\, Deutsch
 land
X-APPLE-STRUCTURED-LOCATION;VALUE=URI;X-ADDRESS=Hauptstraße 1\, Haimhausen
 \, 85778\, Deutschland;X-APPLE-RADIUS=100;X-TITLE=Schloss Haimhausen:geo:0
 ,0
END:VEVENT
BEGIN:VTIMEZONE
TZID:Europe/Berlin
X-LIC-LOCATION:Europe/Berlin
BEGIN:STANDARD
DTSTART:20251026T020000
TZOFFSETFROM:+0200
TZOFFSETTO:+0100
TZNAME:CET
END:STANDARD
END:VTIMEZONE
END:VCALENDAR