BEGIN:VCALENDAR
VERSION:2.0
PRODID:-//wp-events-plugin.com//7.2.2.1//EN
TZID:Europe/Berlin
X-WR-TIMEZONE:Europe/Berlin
BEGIN:VEVENT
UID:12@diekeramikerin.de
DTSTART;TZID=Europe/Berlin:20251011T100000
DTEND;TZID=Europe/Berlin:20251012T180000
DTSTAMP:20250209T101747Z
URL:https://diekeramikerin.de/Veranstaltungen/toepfermarkt-vaterstetten/
SUMMARY:Töpfermarkt Vaterstetten
DESCRIPTION:
LOCATION:Freizeitgelände Vaterstetten\, Johann-Sebastian-Bach-Straße \, V
 aterstetten\, 85591\, Deutschland
X-APPLE-STRUCTURED-LOCATION;VALUE=URI;X-ADDRESS=Johann-Sebastian-Bach-Stra
 ße \, Vaterstetten\, 85591\, Deutschland;X-APPLE-RADIUS=100;X-TITLE=Freiz
 eitgelände Vaterstetten:geo:0,0
END:VEVENT
BEGIN:VTIMEZONE
TZID:Europe/Berlin
X-LIC-LOCATION:Europe/Berlin
BEGIN:DAYLIGHT
DTSTART:20250330T030000
TZOFFSETFROM:+0100
TZOFFSETTO:+0200
TZNAME:CEST
END:DAYLIGHT
END:VTIMEZONE
END:VCALENDAR