BEGIN:VCALENDAR
VERSION:2.0
PRODID:-//wp-events-plugin.com//7.2.2.1//EN
TZID:Europe/Berlin
X-WR-TIMEZONE:Europe/Berlin
BEGIN:VEVENT
UID:4@diekeramikerin.de
DTSTART;TZID=Europe/Berlin:20250503T100000
DTEND;TZID=Europe/Berlin:20250504T180000
DTSTAMP:20250209T092502Z
URL:https://diekeramikerin.de/Veranstaltungen/toepfermarkt-schloss-obersch
 leissheim/
SUMMARY:Töpfermarkt Schloss Oberschleißheim
DESCRIPTION:
LOCATION:Altes Schloss Schleißheim\, Im Maximilianhof\, Oberschleißheim\,
  Deutschland
X-APPLE-STRUCTURED-LOCATION;VALUE=URI;X-ADDRESS=Im Maximilianhof\, Oberschl
 eißheim\, Deutschland;X-APPLE-RADIUS=100;X-TITLE=Altes Schloss Schleißhe
 im:geo:0,0
END:VEVENT
BEGIN:VTIMEZONE
TZID:Europe/Berlin
X-LIC-LOCATION:Europe/Berlin
BEGIN:DAYLIGHT
DTSTART:20250330T030000
TZOFFSETFROM:+0100
TZOFFSETTO:+0200
TZNAME:CEST
END:DAYLIGHT
END:VTIMEZONE
END:VCALENDAR