BEGIN:VCALENDAR
VERSION:2.0
PRODID:-//wp-events-plugin.com//7.2.2.1//EN
TZID:Europe/Berlin
X-WR-TIMEZONE:Europe/Berlin
BEGIN:VEVENT
UID:13@diekeramikerin.de
DTSTART;TZID=Europe/Berlin:20251018T110000
DTEND;TZID=Europe/Berlin:20251019T180000
DTSTAMP:20250209T101930Z
URL:https://diekeramikerin.de/Veranstaltungen/toepfermarkt-schloss-blutenb
 urg/
SUMMARY:Töpfermarkt Schloss Blutenburg
DESCRIPTION:
LOCATION:Schloss Blutenburg\, Seldweg 15\, München-Obermenzing\, 81247\, D
 eutschland
X-APPLE-STRUCTURED-LOCATION;VALUE=URI;X-ADDRESS=Seldweg 15\, München-Oberm
 enzing\, 81247\, Deutschland;X-APPLE-RADIUS=100;X-TITLE=Schloss Blutenburg
 :geo:0,0
END:VEVENT
BEGIN:VTIMEZONE
TZID:Europe/Berlin
X-LIC-LOCATION:Europe/Berlin
BEGIN:DAYLIGHT
DTSTART:20250330T030000
TZOFFSETFROM:+0100
TZOFFSETTO:+0200
TZNAME:CEST
END:DAYLIGHT
END:VTIMEZONE
END:VCALENDAR