BEGIN:VCALENDAR
VERSION:2.0
PRODID:-//wp-events-plugin.com//7.2.2.1//EN
TZID:Europe/Berlin
X-WR-TIMEZONE:Europe/Berlin
BEGIN:VEVENT
UID:9@diekeramikerin.de
DTSTART;TZID=Europe/Berlin:20250705T110000
DTEND;TZID=Europe/Berlin:20250706T180000
DTSTAMP:20250209T100840Z
URL:https://diekeramikerin.de/Veranstaltungen/toepfermarkt-oberschoenenfel
 d-bei-augsburg/
SUMMARY:Töpfermarkt Oberschönenfeld bei Augsburg
DESCRIPTION:
LOCATION:Museum Oberschönenfeld\, Oberschönenfeld 4\, Gessertshausen\, 86
 459\, Deutschland
X-APPLE-STRUCTURED-LOCATION;VALUE=URI;X-ADDRESS=Oberschönenfeld 4\, Gesser
 tshausen\, 86459\, Deutschland;X-APPLE-RADIUS=100;X-TITLE=Museum Oberschö
 nenfeld:geo:0,0
END:VEVENT
BEGIN:VTIMEZONE
TZID:Europe/Berlin
X-LIC-LOCATION:Europe/Berlin
BEGIN:DAYLIGHT
DTSTART:20250330T030000
TZOFFSETFROM:+0100
TZOFFSETTO:+0200
TZNAME:CEST
END:DAYLIGHT
END:VTIMEZONE
END:VCALENDAR