BEGIN:VCALENDAR
VERSION:2.0
PRODID:-//wp-events-plugin.com//7.2.2.1//EN
TZID:Europe/Berlin
X-WR-TIMEZONE:Europe/Berlin
BEGIN:VEVENT
UID:11@diekeramikerin.de
DTSTART;TZID=Europe/Berlin:20250920T090000
DTEND;TZID=Europe/Berlin:20250921T180000
DTSTAMP:20250209T101500Z
URL:https://diekeramikerin.de/Veranstaltungen/toepfermarkt-neuburg-an-der-
 donau/
SUMMARY:Töpfermarkt Neuburg an der Donau
DESCRIPTION:
LOCATION:Marstall Altstadt Neuburg\, Ottheinrichplatz 116\, Neuburg an der 
 Donau\, 86633\, Deutschland
X-APPLE-STRUCTURED-LOCATION;VALUE=URI;X-ADDRESS=Ottheinrichplatz 116\, Neub
 urg an der Donau\, 86633\, Deutschland;X-APPLE-RADIUS=100;X-TITLE=Marstall
  Altstadt Neuburg:geo:0,0
END:VEVENT
BEGIN:VTIMEZONE
TZID:Europe/Berlin
X-LIC-LOCATION:Europe/Berlin
BEGIN:DAYLIGHT
DTSTART:20250330T030000
TZOFFSETFROM:+0100
TZOFFSETTO:+0200
TZNAME:CEST
END:DAYLIGHT
END:VTIMEZONE
END:VCALENDAR