BEGIN:VCALENDAR
VERSION:2.0
PRODID:-//wp-events-plugin.com//7.2.2.1//EN
TZID:Europe/Berlin
X-WR-TIMEZONE:Europe/Berlin
BEGIN:VEVENT
UID:14@diekeramikerin.de
DTSTART;TZID=Europe/Berlin:20251025T100000
DTEND;TZID=Europe/Berlin:20251026T170000
DTSTAMP:20250209T102141Z
URL:https://diekeramikerin.de/Veranstaltungen/toepfermarkt-kloster-au-am-i
 nn/
SUMMARY:Töpfermarkt Kloster Au am Inn
DESCRIPTION:
LOCATION:Kloster Au\, Kloster Au\, Au am Inn\, 83546\, Deutschland
X-APPLE-STRUCTURED-LOCATION;VALUE=URI;X-ADDRESS=Kloster Au\, Au am Inn\, 83
 546\, Deutschland;X-APPLE-RADIUS=100;X-TITLE=Kloster Au:geo:0,0
END:VEVENT
BEGIN:VTIMEZONE
TZID:Europe/Berlin
X-LIC-LOCATION:Europe/Berlin
BEGIN:DAYLIGHT
DTSTART:20250330T030000
TZOFFSETFROM:+0100
TZOFFSETTO:+0200
TZNAME:CEST
END:DAYLIGHT
BEGIN:STANDARD
DTSTART:20251026T020000
TZOFFSETFROM:+0200
TZOFFSETTO:+0100
TZNAME:CET
END:STANDARD
END:VTIMEZONE
END:VCALENDAR