BEGIN:VCALENDAR
VERSION:2.0
PRODID:-//wp-events-plugin.com//7.2.2.1//EN
TZID:Europe/Berlin
X-WR-TIMEZONE:Europe/Berlin
BEGIN:VEVENT
UID:7@diekeramikerin.de
DTSTART;TZID=Europe/Berlin:20250628T100000
DTEND;TZID=Europe/Berlin:20250629T180000
DTSTAMP:20250209T100013Z
URL:https://diekeramikerin.de/Veranstaltungen/toepfermarkt-irsee/
SUMMARY:Töpfermarkt Irsee
DESCRIPTION:
LOCATION:Kloster Irsee\, Klosterring 9\, Irsee\, 87660\, Deutschland
X-APPLE-STRUCTURED-LOCATION;VALUE=URI;X-ADDRESS=Klosterring 9\, Irsee\, 876
 60\, Deutschland;X-APPLE-RADIUS=100;X-TITLE=Kloster Irsee:geo:0,0
END:VEVENT
BEGIN:VTIMEZONE
TZID:Europe/Berlin
X-LIC-LOCATION:Europe/Berlin
BEGIN:DAYLIGHT
DTSTART:20250330T030000
TZOFFSETFROM:+0100
TZOFFSETTO:+0200
TZNAME:CEST
END:DAYLIGHT
END:VTIMEZONE
END:VCALENDAR