BEGIN:VCALENDAR
VERSION:2.0
PRODID:-//wp-events-plugin.com//7.2.2.1//EN
TZID:Europe/Berlin
X-WR-TIMEZONE:Europe/Berlin
BEGIN:VEVENT
UID:20@diekeramikerin.de
DTSTART;TZID=Europe/Berlin:20250312T160000
DTEND;TZID=Europe/Berlin:20250312T180000
DTSTAMP:20250209T111219Z
URL:https://diekeramikerin.de/Veranstaltungen/toepferkurs-fuer-kinder-henn
 e-und-osterhase-bautermin/
SUMMARY:Töpferkurs für Kinder\, "Henne und Osterhase" (Bautermin)
DESCRIPTION:&nbsp\;\n\n\n\nTöpferkurs für Kinder 6 - 10 Jahre\, max. Teil
 nehmerzahl 6\, Kosten 60€ plus Materialkosten.\n\nTermin zum Bemalen am 
 26.03.2025\, 16:00 - 18:00 Uhr (im Preis enthalten)
LOCATION:Keramikatelier Kerstin Reisel\, Echinger Straße 5a\, Unterschlei
 ßheim\, 85716\, Deutschland
X-APPLE-STRUCTURED-LOCATION;VALUE=URI;X-ADDRESS=Echinger Straße 5a\, Unter
 schleißheim\, 85716\, Deutschland;X-APPLE-RADIUS=100;X-TITLE=Keramikateli
 er Kerstin Reisel:geo:0,0
END:VEVENT
BEGIN:VTIMEZONE
TZID:Europe/Berlin
X-LIC-LOCATION:Europe/Berlin
BEGIN:STANDARD
DTSTART:20241027T020000
TZOFFSETFROM:+0200
TZOFFSETTO:+0100
TZNAME:CET
END:STANDARD
END:VTIMEZONE
END:VCALENDAR