BEGIN:VCALENDAR
VERSION:2.0
PRODID:-//wp-events-plugin.com//7.2.2.1//EN
TZID:Europe/Berlin
X-WR-TIMEZONE:Europe/Berlin
BEGIN:VEVENT
UID:21@diekeramikerin.de
DTSTART;TZID=Europe/Berlin:20250716T160000
DTEND;TZID=Europe/Berlin:20250716T180000
DTSTAMP:20250209T111104Z
URL:https://diekeramikerin.de/Veranstaltungen/toepferkurs-fuer-kinder-gesc
 hirr-selbst-herstellen-bautermin/
SUMMARY:Töpferkurs für Kinder "Geschirr selbst herstellen" (Bautermin)
DESCRIPTION:\n\nTöpferkurs für Kinder von 6-10 Jahren\, max. Teilnehmerza
 hl 6\, Kosten 60€ plus Material\n\n2 Termin zum Anmalen am 30.07.2025 - 
 16:00 bis 18:00 Uhr (im Preis enthalten)
LOCATION:Keramikatelier Kerstin Reisel\, Echinger Straße 5a\, Unterschlei
 ßheim\, 85716\, Deutschland
X-APPLE-STRUCTURED-LOCATION;VALUE=URI;X-ADDRESS=Echinger Straße 5a\, Unter
 schleißheim\, 85716\, Deutschland;X-APPLE-RADIUS=100;X-TITLE=Keramikateli
 er Kerstin Reisel:geo:0,0
END:VEVENT
BEGIN:VTIMEZONE
TZID:Europe/Berlin
X-LIC-LOCATION:Europe/Berlin
BEGIN:DAYLIGHT
DTSTART:20250330T030000
TZOFFSETFROM:+0100
TZOFFSETTO:+0200
TZNAME:CEST
END:DAYLIGHT
END:VTIMEZONE
END:VCALENDAR