BEGIN:VCALENDAR
VERSION:2.0
PRODID:-//wp-events-plugin.com//7.2.2.1//EN
TZID:Europe/Berlin
X-WR-TIMEZONE:Europe/Berlin
BEGIN:VEVENT
UID:8@diekeramikerin.de
DTSTART;TZID=Europe/Berlin:20250518T110000
DTEND;TZID=Europe/Berlin:20250518T180000
DTSTAMP:20250209T100519Z
URL:https://diekeramikerin.de/Veranstaltungen/schleissheimer-fruehling/
SUMMARY:Schleißheimer Frühling
DESCRIPTION:
LOCATION:Schloss Schleißheim\, Schlossanlage Schleißheim\, Oberschleißhe
 im\, Deutschland
X-APPLE-STRUCTURED-LOCATION;VALUE=URI;X-ADDRESS=Schlossanlage Schleißheim\
 , Oberschleißheim\, Deutschland;X-APPLE-RADIUS=100;X-TITLE=Schloss Schlei
 ßheim:geo:0,0
END:VEVENT
BEGIN:VTIMEZONE
TZID:Europe/Berlin
X-LIC-LOCATION:Europe/Berlin
BEGIN:DAYLIGHT
DTSTART:20250330T030000
TZOFFSETFROM:+0100
TZOFFSETTO:+0200
TZNAME:CEST
END:DAYLIGHT
END:VTIMEZONE
END:VCALENDAR