BEGIN:VCALENDAR
VERSION:2.0
PRODID:-//wp-events-plugin.com//7.2.2.1//EN
TZID:Europe/Berlin
X-WR-TIMEZONE:Europe/Berlin
BEGIN:VEVENT
UID:17@diekeramikerin.de
DTSTART;TZID=Europe/Berlin:20250308T100000
DTEND;TZID=Europe/Berlin:20250308T160000
DTSTAMP:20250209T104047Z
URL:https://diekeramikerin.de/Veranstaltungen/keramikworkshop-dicke-damen/
SUMMARY:Keramikworkshop "Bade-Damen"
DESCRIPTION:\n\n&nbsp\;\n\nKeramikworkshop für Erwachsene\, max Teilnehmer
 zahl 4 - Kosten 140€ plus Material
LOCATION:Keramikatelier Kerstin Reisel\, Echinger Straße 5a\, Unterschlei
 ßheim\, 85716\, Deutschland
X-APPLE-STRUCTURED-LOCATION;VALUE=URI;X-ADDRESS=Echinger Straße 5a\, Unter
 schleißheim\, 85716\, Deutschland;X-APPLE-RADIUS=100;X-TITLE=Keramikateli
 er Kerstin Reisel:geo:0,0
END:VEVENT
BEGIN:VTIMEZONE
TZID:Europe/Berlin
X-LIC-LOCATION:Europe/Berlin
BEGIN:STANDARD
DTSTART:20241027T020000
TZOFFSETFROM:+0200
TZOFFSETTO:+0100
TZNAME:CET
END:STANDARD
END:VTIMEZONE
END:VCALENDAR