BEGIN:VCALENDAR
VERSION:2.0
PRODID:-//wp-events-plugin.com//7.2.2.1//EN
TZID:Europe/Berlin
X-WR-TIMEZONE:Europe/Berlin
BEGIN:VEVENT
UID:1@diekeramikerin.de
DTSTART;TZID=Europe/Berlin:20240831T084500
DTEND;TZID=Europe/Berlin:20240831T160000
DTSTAMP:20240822T163139Z
URL:https://diekeramikerin.de/Veranstaltungen/keramik-workshops-fuer-anfae
 nger/
SUMMARY:Keramik-Workshops für Anfänger
DESCRIPTION:Entdecken Sie Ihre künstlerischen Fähigkeiten bei unseren Ker
 amik-Workshops in Unterschleißheim!\n\nBesuchen Sie uns im Kreativzentrum
  Unterschleißheim\, Münchner Straße 15\, 85716 Unterschleißheim\, und 
 lernen Sie die Grundlagen der Keramik\, von der Formgebung bis zur Dekorat
 ion\, in einer freundlichen und inspirierenden Atmosphäre. Unsere erfahre
 nen Künstler werden Sie Schritt für Schritt durch den Prozess führen\, 
 während Sie Ihr eigenes einzigartiges Kunstwerk schaffen.\n\nWas erwartet
  Sie:\n\n 	Einführung in die Techniken der Keramikherstellung\n 	Praktisc
 he Übungen zur Formgebung und Gestaltung\n 	Tipps und Tricks zur Dekorati
 on Ihrer Werke\n\nTeilnahmegebühr: 25 Euro pro Person (inkl. Materialkost
 en).\n\nVerpassen Sie nicht diese Gelegenheit\, Ihre Kreativität zu entfa
 lten und ein unvergessliches Erlebnis zu genießen!
END:VEVENT
BEGIN:VTIMEZONE
TZID:Europe/Berlin
X-LIC-LOCATION:Europe/Berlin
BEGIN:DAYLIGHT
DTSTART:20240331T030000
TZOFFSETFROM:+0100
TZOFFSETTO:+0200
TZNAME:CEST
END:DAYLIGHT
END:VTIMEZONE
END:VCALENDAR