BEGIN:VCALENDAR
VERSION:2.0
PRODID:-//wp-events-plugin.com//7.2.2.1//EN
TZID:Europe/Berlin
X-WR-TIMEZONE:Europe/Berlin
BEGIN:VEVENT
UID:6@diekeramikerin.de
DTSTART;TZID=Europe/Berlin:20250510T000000
DTEND;TZID=Europe/Berlin:20250511T000000
DTSTAMP:20250209T093914Z
URL:https://diekeramikerin.de/Veranstaltungen/freisinger-gartentage/
SUMMARY:Freisinger Gartentage
DESCRIPTION:
LOCATION:Eingang des Geländes für Navigationsgeräte\, Maximus-von-Imhof-
 Forum 1\, Freising\, 85354\, Deutschland
X-APPLE-STRUCTURED-LOCATION;VALUE=URI;X-ADDRESS=Maximus-von-Imhof-Forum 1\,
  Freising\, 85354\, Deutschland;X-APPLE-RADIUS=100;X-TITLE=Eingang des Gel
 ändes für Navigationsgeräte:geo:0,0
END:VEVENT
BEGIN:VTIMEZONE
TZID:Europe/Berlin
X-LIC-LOCATION:Europe/Berlin
BEGIN:DAYLIGHT
DTSTART:20250330T030000
TZOFFSETFROM:+0100
TZOFFSETTO:+0200
TZNAME:CEST
END:DAYLIGHT
END:VTIMEZONE
END:VCALENDAR