BEGIN:VCALENDAR
VERSION:2.0
PRODID:-//wp-events-plugin.com//7.2.2.1//EN
TZID:Europe/Berlin
X-WR-TIMEZONE:Europe/Berlin
BEGIN:VEVENT
UID:3@diekeramikerin.de
DTSTART;TZID=Europe/Berlin:20250322T110000
DTEND;TZID=Europe/Berlin:20250323T170000
DTSTAMP:20250209T091806Z
URL:https://diekeramikerin.de/Veranstaltungen/aichacher-ostermarkt/
SUMMARY:Aichacher Ostermarkt
DESCRIPTION:Sisi-Schloss Unterwittelsbach
LOCATION:Aichacher Ostermarkt\, Klausenweg 1\, Aichach\, 86551 \, Deutschla
 nd
X-APPLE-STRUCTURED-LOCATION;VALUE=URI;X-ADDRESS=Klausenweg 1\, Aichach\, 86
 551 \, Deutschland;X-APPLE-RADIUS=100;X-TITLE=Aichacher Ostermarkt:geo:0,0
END:VEVENT
BEGIN:VTIMEZONE
TZID:Europe/Berlin
X-LIC-LOCATION:Europe/Berlin
BEGIN:STANDARD
DTSTART:20241027T020000
TZOFFSETFROM:+0200
TZOFFSETTO:+0100
TZNAME:CET
END:STANDARD
END:VTIMEZONE
END:VCALENDAR